BEGIN:VCALENDAR
VERSION:2.0
PRODID:-//Plone.org//NONSGML plone.app.event//EN
X-WR-TIMEZONE:US/Central
BEGIN:VEVENT
SUMMARY:Good Friday
DTSTART;VALUE=DATE:20260403
DTEND;VALUE=DATE:20260404
DTSTAMP:20260425T214143Z
UID:97228c547fc04760aad2121e54d8632a@saas_stack_varnish:6080
CREATED:20251001T175718Z
DESCRIPTION:Holiday Closure
LAST-MODIFIED:20251002T170510Z
URL:https://madisonville.ploud.net/good-friday
END:VEVENT
END:VCALENDAR
