BEGIN:VCALENDAR
VERSION:2.0
PRODID:-//Plone.org//NONSGML plone.app.event//EN
X-WR-TIMEZONE:US/Central
BEGIN:VEVENT
SUMMARY:Christmas Holiday
DTSTART;VALUE=DATE:20251225
DTEND;VALUE=DATE:20251227
DTSTAMP:20260420T232017Z
UID:0f1a8d8f456d43399b86f4951111a842@saas_stack_varnish:6080
CREATED:20250128T161115Z
DESCRIPTION:Closed
LAST-MODIFIED:20250128T161122Z
URL:https://madisonville.ploud.net/news-events/christmas-holiday
END:VEVENT
END:VCALENDAR
