BEGIN:VCALENDAR
VERSION:2.0
PRODID:-//Plone.org//NONSGML plone.app.event//EN
X-WR-TIMEZONE:US/Central
BEGIN:VEVENT
SUMMARY:Columbus Day
DTSTART;VALUE=DATE:20251013
DTEND;VALUE=DATE:20251014
DTSTAMP:20260425T183600Z
UID:692f1a9da8ff49878df8442932da5789@saas_stack_varnish:6080
CREATED:20250128T160634Z
DESCRIPTION:Closed
LAST-MODIFIED:20250128T160642Z
URL:https://madisonville.ploud.net/news-events/columbus-day
END:VEVENT
END:VCALENDAR
