BEGIN:VCALENDAR
VERSION:2.0
PRODID:-//Plone.org//NONSGML plone.app.event//EN
X-WR-TIMEZONE:US/Central
BEGIN:VEVENT
SUMMARY:Good Friday Holiday
DTSTART;VALUE=DATE:20250418
DTEND;VALUE=DATE:20250419
DTSTAMP:20260420T213932Z
UID:ff7a6d07d7d147238637ec5c24a54490@saas_stack_varnish:6080
CREATED:20250128T155645Z
DESCRIPTION:Closed
LAST-MODIFIED:20250128T155655Z
URL:https://madisonville.ploud.net/news-events/good-friday-holiday
END:VEVENT
END:VCALENDAR
