BEGIN:VCALENDAR
VERSION:2.0
PRODID:-//Plone.org//NONSGML plone.app.event//EN
X-WR-TIMEZONE:US/Central
BEGIN:VEVENT
SUMMARY:Independence Day
DTSTART;VALUE=DATE:20250704
DTEND;VALUE=DATE:20250705
DTSTAMP:20260420T213545Z
UID:a6542ce609ac470f80d6db44a47f17a0@saas_stack_varnish:6080
CREATED:20250128T160105Z
DESCRIPTION:Closed
LAST-MODIFIED:20250128T160119Z
URL:https://madisonville.ploud.net/news-events/independence-day
END:VEVENT
END:VCALENDAR
