BEGIN:VCALENDAR
VERSION:2.0
PRODID:-//Plone.org//NONSGML plone.app.event//EN
X-WR-TIMEZONE:US/Central
BEGIN:VEVENT
SUMMARY:Juneteenth
DTSTART;VALUE=DATE:20250619
DTEND;VALUE=DATE:20250620
DTSTAMP:20260425T183328Z
UID:c24bfcb78eee4fdc968334570d9d685d@saas_stack_varnish:6080
CREATED:20250128T155946Z
DESCRIPTION:Closed
LAST-MODIFIED:20250128T155954Z
URL:https://madisonville.ploud.net/news-events/juneteenth
END:VEVENT
END:VCALENDAR
