BEGIN:VCALENDAR
VERSION:2.0
PRODID:-//Plone.org//NONSGML plone.app.event//EN
X-WR-TIMEZONE:US/Central
BEGIN:VEVENT
SUMMARY:Labor Day
DTSTART;VALUE=DATE:20250901
DTEND;VALUE=DATE:20250902
DTSTAMP:20260425T183446Z
UID:439a6b93c3784423b01e1e8c303763db@saas_stack_varnish:6080
CREATED:20250128T160318Z
DESCRIPTION:Closed
LAST-MODIFIED:20250128T160355Z
URL:https://madisonville.ploud.net/news-events/labor-day
END:VEVENT
END:VCALENDAR
