BEGIN:VCALENDAR
VERSION:2.0
PRODID:-//Plone.org//NONSGML plone.app.event//EN
X-WR-TIMEZONE:US/Central
BEGIN:VEVENT
SUMMARY:1st - 3rd Grade Summer Reading Program
DTSTART;TZID=US/Central:20240618T110000
DTEND;TZID=US/Central:20240618T120000
DTSTAMP:20260425T183614Z
UID:7ddce91f622044a78ce1a1adcffa35e5@saas_stack_varnish:6080
RRULE:FREQ=WEEKLY;COUNT=7;BYDAY=TU
EXDATE;TZID=US/Central:20240730T000000
CREATED:20240405T134142Z
DESCRIPTION:Adventure Begins at Your Library!
LAST-MODIFIED:20240405T134149Z
URL:https://madisonville.ploud.net/news-events/lib-cal/1st-3rd-grade-summe
 r-reading-program
END:VEVENT
BEGIN:VTIMEZONE
TZID:US/Central
X-LIC-LOCATION:US/Central
BEGIN:DAYLIGHT
DTSTART:20240310T030000
TZNAME:CDT
TZOFFSETFROM:-0600
TZOFFSETTO:-0500
END:DAYLIGHT
END:VTIMEZONE
END:VCALENDAR
