BEGIN:VCALENDAR
VERSION:2.0
PRODID:-//Plone.org//NONSGML plone.app.event//EN
X-WR-TIMEZONE:US/Central
BEGIN:VEVENT
SUMMARY:Christmas Holiday
DTSTART;VALUE=DATE:20241225
DTEND;VALUE=DATE:20241226
DTSTAMP:20260425T183833Z
UID:1012bca9f6b8432da69d376bde859c49@saas_stack_varnish:6080
CREATED:20231227T182957Z
DESCRIPTION:Closed
LAST-MODIFIED:20231227T183005Z
URL:https://madisonville.ploud.net/news-events/lib-cal/christmas-holiday-5
END:VEVENT
END:VCALENDAR
