BEGIN:VCALENDAR
VERSION:2.0
PRODID:-//Plone.org//NONSGML plone.app.event//EN
X-WR-TIMEZONE:US/Central
BEGIN:VEVENT
SUMMARY:CLOSED for training
DTSTART;VALUE=DATE:20240520
DTEND;VALUE=DATE:20240521
DTSTAMP:20260425T183601Z
UID:d754ba91a81246f88e0366ecdab32de7@saas_stack_varnish:6080
CREATED:20240503T132202Z
DESCRIPTION:The library will be closed on Monday\, May 20 while staff atte
 nds professional training in Huntsville and Tomball. Please return your bo
 oks in the drop box. No late fees will be charged.
LAST-MODIFIED:20240503T132210Z
URL:https://madisonville.ploud.net/news-events/lib-cal/closed-for-training
END:VEVENT
END:VCALENDAR
