BEGIN:VCALENDAR
VERSION:2.0
PRODID:-//Plone.org//NONSGML plone.app.event//EN
X-WR-TIMEZONE:US/Central
BEGIN:VEVENT
SUMMARY:Closed for Workshop
DTSTART;VALUE=DATE:20230823
DTEND;VALUE=DATE:20230824
DTSTAMP:20260420T213744Z
UID:80b604f9515b43b4a7b3fea80f074e1a@saas_stack_varnish:6080
CREATED:20230424T153725Z
DESCRIPTION:The library will be closed so that staff may attend a workshop
  in Hillsboro
LAST-MODIFIED:20230424T153730Z
URL:https://madisonville.ploud.net/news-events/lib-cal/closed-for-workshop
 -4
END:VEVENT
END:VCALENDAR
