BEGIN:VCALENDAR
VERSION:2.0
PRODID:-//Plone.org//NONSGML plone.app.event//EN
X-WR-TIMEZONE:US/Central
BEGIN:VEVENT
SUMMARY:Closure
DTSTART;VALUE=DATE:20250819
DTEND;VALUE=DATE:20250820
DTSTAMP:20260420T213646Z
UID:3c4a118a5ff642d7aa3f51bbd3611a72@saas_stack_varnish:6080
CREATED:20250731T174503Z
LAST-MODIFIED:20250731T174519Z
URL:https://madisonville.ploud.net/news-events/lib-cal/closure-1
END:VEVENT
END:VCALENDAR
