BEGIN:VCALENDAR
VERSION:2.0
PRODID:-//Plone.org//NONSGML plone.app.event//EN
X-WR-TIMEZONE:US/Central
BEGIN:VEVENT
SUMMARY:Color Our World Summer Reading Program Registration
DTSTART;TZID=US/Central:20250501T090000
DTEND;TZID=US/Central:20250501T170000
DTSTAMP:20260425T183751Z
UID:436870c310794dec9292427f5abf46ac@saas_stack_varnish:6080
RRULE:FREQ=WEEKLY;COUNT=27;BYDAY=MO,TU,WE,TH,FR
EXDATE;TZID=US/Central:20250526T000000,20250527T000000,20250528T000000,202
 50529T000000,20250530T000000,20250602T000000,20250603T000000,20250604T0000
 00,20250605T000000,20250606T000000
CREATED:20250306T151210Z
DESCRIPTION:Registration starts on May 1 and ends May 23. Hurry\, space is
  limited!
LAST-MODIFIED:20250306T151219Z
URL:https://madisonville.ploud.net/news-events/lib-cal/color-our-world-sum
 mer-reading-program-registration
END:VEVENT
BEGIN:VTIMEZONE
TZID:US/Central
X-LIC-LOCATION:US/Central
BEGIN:DAYLIGHT
DTSTART:20250309T030000
TZNAME:CDT
TZOFFSETFROM:-0600
TZOFFSETTO:-0500
END:DAYLIGHT
END:VTIMEZONE
END:VCALENDAR
