BEGIN:VCALENDAR
VERSION:2.0
PRODID:-//Plone.org//NONSGML plone.app.event//EN
X-WR-TIMEZONE:US/Central
BEGIN:VEVENT
SUMMARY:Columbus Day Holiday
DTSTART;VALUE=DATE:20231009
DTEND;VALUE=DATE:20231010
DTSTAMP:20260420T214221Z
UID:a2afa0acd4864178b876ccedd51a4e60@saas_stack_varnish:6080
CREATED:20230424T153943Z
DESCRIPTION:Library is closed for the Columbus Day Holiday
LAST-MODIFIED:20230424T153948Z
URL:https://madisonville.ploud.net/news-events/lib-cal/columbus-day-holida
 y-3
END:VEVENT
END:VCALENDAR
