BEGIN:VCALENDAR
VERSION:2.0
PRODID:-//Plone.org//NONSGML plone.app.event//EN
X-WR-TIMEZONE:US/Central
BEGIN:VEVENT
SUMMARY:Great American Eclipse
DTSTART;TZID=US/Central:20240408T120000
DTEND;TZID=US/Central:20240408T140000
DTSTAMP:20260425T200014Z
UID:121e563eeb104e41ae2a7b48b61ea088@saas_stack_varnish:6080
CREATED:20240405T132920Z
DESCRIPTION:Rain or shine\, clouds or not\, join us from 12 p.m. to 2 p.m.
  for cake and eclipse-themed snacks
LAST-MODIFIED:20240405T132927Z
URL:https://madisonville.ploud.net/news-events/lib-cal/great-american-ecli
 pse
END:VEVENT
BEGIN:VTIMEZONE
TZID:US/Central
X-LIC-LOCATION:US/Central
BEGIN:DAYLIGHT
DTSTART:20240310T030000
TZNAME:CDT
TZOFFSETFROM:-0600
TZOFFSETTO:-0500
END:DAYLIGHT
END:VTIMEZONE
END:VCALENDAR
