BEGIN:VCALENDAR
VERSION:2.0
PRODID:-//Plone.org//NONSGML plone.app.event//EN
X-WR-TIMEZONE:US/Central
BEGIN:VEVENT
SUMMARY:Happy 55th Birthday!
DTSTART;VALUE=DATE:20240427
DTEND;VALUE=DATE:20240428
DTSTAMP:20260425T184553Z
UID:7ca159528f9242a2833b9a6d8c804269@saas_stack_varnish:6080
CREATED:20240405T133258Z
DESCRIPTION:The Madison County Library was opened on April 27\, 1969
LAST-MODIFIED:20240405T133307Z
URL:https://madisonville.ploud.net/news-events/lib-cal/happy-55th-birthday
END:VEVENT
END:VCALENDAR
