BEGIN:VCALENDAR
VERSION:2.0
PRODID:-//Plone.org//NONSGML plone.app.event//EN
X-WR-TIMEZONE:US/Central
BEGIN:VEVENT
SUMMARY:Holiday Closure
DTSTART;VALUE=DATE:20250101
DTEND;VALUE=DATE:20250103
DTSTAMP:20260425T183742Z
UID:8760d0e287d7455c82644ade598633a5@saas_stack_varnish:6080
CREATED:20241218T203850Z
LAST-MODIFIED:20241218T205407Z
URL:https://madisonville.ploud.net/news-events/lib-cal/holiday-closure-1
END:VEVENT
END:VCALENDAR
