BEGIN:VCALENDAR
VERSION:2.0
PRODID:-//Plone.org//NONSGML plone.app.event//EN
X-WR-TIMEZONE:US/Central
BEGIN:VEVENT
SUMMARY:Holiday Closure
DTSTART;VALUE=DATE:20250120
DTEND;VALUE=DATE:20250121
DTSTAMP:20260425T184302Z
UID:327914eebd8d4b278fcbc745b9e1dae9@saas_stack_varnish:6080
CREATED:20241218T205510Z
LAST-MODIFIED:20241218T205522Z
URL:https://madisonville.ploud.net/news-events/lib-cal/holiday-closure-2
END:VEVENT
END:VCALENDAR
