BEGIN:VCALENDAR
VERSION:2.0
PRODID:-//Plone.org//NONSGML plone.app.event//EN
X-WR-TIMEZONE:US/Central
BEGIN:VEVENT
SUMMARY:Holiday Closure
DTSTART;VALUE=DATE:20241227
DTEND;VALUE=DATE:20241228
DTSTAMP:20260425T184625Z
UID:76fd490222804940818dc87d25ae7e0d@saas_stack_varnish:6080
CREATED:20241218T203723Z
LAST-MODIFIED:20241218T205305Z
URL:https://madisonville.ploud.net/news-events/lib-cal/holiday-closure
END:VEVENT
END:VCALENDAR
