BEGIN:VCALENDAR
VERSION:2.0
PRODID:-//Plone.org//NONSGML plone.app.event//EN
X-WR-TIMEZONE:US/Central
BEGIN:VEVENT
SUMMARY:Independence Day Holiday
DTSTART;VALUE=DATE:20230704
DTEND;VALUE=DATE:20230705
DTSTAMP:20260420T214052Z
UID:51690b5a74424dd188b674ada2c23177@saas_stack_varnish:6080
CREATED:20230424T153607Z
DESCRIPTION:Closed for the 4th of July
LAST-MODIFIED:20230424T153613Z
URL:https://madisonville.ploud.net/news-events/lib-cal/independence-day-ho
 liday-1
END:VEVENT
END:VCALENDAR
