BEGIN:VCALENDAR
VERSION:2.0
PRODID:-//Plone.org//NONSGML plone.app.event//EN
X-WR-TIMEZONE:US/Central
BEGIN:VEVENT
SUMMARY:Independence Day Holiday
DTSTART;VALUE=DATE:20240704
DTEND;VALUE=DATE:20240705
DTSTAMP:20260425T184720Z
UID:d96784a457c243d89745ca3c75ef4c9e@saas_stack_varnish:6080
CREATED:20231227T182206Z
DESCRIPTION:Closed
LAST-MODIFIED:20231227T182214Z
URL:https://madisonville.ploud.net/news-events/lib-cal/independence-day-ho
 liday-2
END:VEVENT
END:VCALENDAR
