BEGIN:VCALENDAR
VERSION:2.0
PRODID:-//Plone.org//NONSGML plone.app.event//EN
X-WR-TIMEZONE:US/Central
BEGIN:VEVENT
SUMMARY:Juneteenth Holiday
DTSTART;VALUE=DATE:20230619
DTEND;VALUE=DATE:20230620
DTSTAMP:20260425T200221Z
UID:3aa25d16af4b4f6b8cdba5dc3e7b8451@saas_stack_varnish:6080
CREATED:20230424T153511Z
DESCRIPTION:Closed for the Juneteenth Holiday
LAST-MODIFIED:20230424T153516Z
URL:https://madisonville.ploud.net/news-events/lib-cal/juneteenth-holiday-
 1
END:VEVENT
END:VCALENDAR
