BEGIN:VCALENDAR
VERSION:2.0
PRODID:-//Plone.org//NONSGML plone.app.event//EN
X-WR-TIMEZONE:US/Central
BEGIN:VEVENT
SUMMARY:Juneteenth Holiday
DTSTART;VALUE=DATE:20240619
DTEND;VALUE=DATE:20240620
DTSTAMP:20260425T183621Z
UID:05d9cd79efb7473bb3f8fcedb812456b@saas_stack_varnish:6080
CREATED:20231227T182058Z
DESCRIPTION:Closed
LAST-MODIFIED:20231227T182107Z
URL:https://madisonville.ploud.net/news-events/lib-cal/juneteenth-holiday-
 2
END:VEVENT
END:VCALENDAR
