BEGIN:VCALENDAR
VERSION:2.0
PRODID:-//Plone.org//NONSGML plone.app.event//EN
X-WR-TIMEZONE:US/Central
BEGIN:VEVENT
SUMMARY:K-2nd grade Summer Reading Program
DTSTART;TZID=US/Central:20250527T110000
DTEND;TZID=US/Central:20250527T120000
DTSTAMP:20260425T184139Z
UID:d4814847b5e546dfadfa6168ead8231f@saas_stack_varnish:6080
RRULE:FREQ=WEEKLY;COUNT=6
CREATED:20250305T222323Z
DESCRIPTION:Meets on Tuesdays at 11:00 a.m. for 6 weeks.
LAST-MODIFIED:20250306T142514Z
URL:https://madisonville.ploud.net/news-events/lib-cal/k-2nd-grade-summer-
 reading-program
END:VEVENT
BEGIN:VTIMEZONE
TZID:US/Central
X-LIC-LOCATION:US/Central
BEGIN:DAYLIGHT
DTSTART:20250309T030000
TZNAME:CDT
TZOFFSETFROM:-0600
TZOFFSETTO:-0500
END:DAYLIGHT
END:VTIMEZONE
END:VCALENDAR
