BEGIN:VCALENDAR
VERSION:2.0
PRODID:-//Plone.org//NONSGML plone.app.event//EN
X-WR-TIMEZONE:US/Central
BEGIN:VEVENT
SUMMARY:Labor Day Holiday
DTSTART;VALUE=DATE:20230904
DTEND;VALUE=DATE:20230905
DTSTAMP:20260425T202200Z
UID:9f62f3104d4245569de6bb60cea24ad4@saas_stack_varnish:6080
CREATED:20230424T153841Z
DESCRIPTION:Library will be closed for the Labor Day Holiday
LAST-MODIFIED:20230424T153846Z
URL:https://madisonville.ploud.net/news-events/lib-cal/labor-day-holiday-3
END:VEVENT
END:VCALENDAR
