BEGIN:VCALENDAR
VERSION:2.0
PRODID:-//Plone.org//NONSGML plone.app.event//EN
X-WR-TIMEZONE:US/Central
BEGIN:VEVENT
SUMMARY:Labor Day Holiday
DTSTART;VALUE=DATE:20240902
DTEND;VALUE=DATE:20240903
DTSTAMP:20260425T184302Z
UID:0ce52acdf42340c2bb57c50278e169c9@saas_stack_varnish:6080
CREATED:20231227T182314Z
DESCRIPTION:Closed
LAST-MODIFIED:20231227T182322Z
URL:https://madisonville.ploud.net/news-events/lib-cal/labor-day-holiday-4
END:VEVENT
END:VCALENDAR
