BEGIN:VCALENDAR
VERSION:2.0
PRODID:-//Plone.org//NONSGML plone.app.event//EN
X-WR-TIMEZONE:US/Central
BEGIN:VEVENT
SUMMARY:Martin Luther King Jr. Holiday
DTSTART;VALUE=DATE:20240115
DTEND;VALUE=DATE:20240116
DTSTAMP:20260420T215206Z
UID:16f0e90ef0bc495e95cf510e5c2fd925@saas_stack_varnish:6080
CREATED:20231227T180336Z
DESCRIPTION:Closed
LAST-MODIFIED:20231227T180452Z
URL:https://madisonville.ploud.net/news-events/lib-cal/martin-luther-king-
 jr-holiday-1
END:VEVENT
END:VCALENDAR
