BEGIN:VCALENDAR
VERSION:2.0
PRODID:-//Plone.org//NONSGML plone.app.event//EN
X-WR-TIMEZONE:US/Central
BEGIN:VEVENT
SUMMARY:Memorial Day Holiday
DTSTART;VALUE=DATE:20230529
DTEND;VALUE=DATE:20230530
DTSTAMP:20260425T183751Z
UID:dcb60ba310844f8488640cdb7f18c3a2@saas_stack_varnish:6080
CREATED:20230424T153354Z
DESCRIPTION:Closed for the Memorial Day Holiday
LAST-MODIFIED:20230424T153359Z
URL:https://madisonville.ploud.net/news-events/lib-cal/memorial-day-holida
 y-4
END:VEVENT
END:VCALENDAR
