BEGIN:VCALENDAR
VERSION:2.0
PRODID:-//Plone.org//NONSGML plone.app.event//EN
X-WR-TIMEZONE:US/Central
BEGIN:VEVENT
SUMMARY:New Year's Day Holiday
DTSTART;VALUE=DATE:20240101
DTEND;VALUE=DATE:20240102
DTSTAMP:20260425T201644Z
UID:096640c6567d412ba607737cc56ea833@saas_stack_varnish:6080
CREATED:20231227T180210Z
DESCRIPTION:Closed
LAST-MODIFIED:20231227T180231Z
URL:https://madisonville.ploud.net/news-events/lib-cal/new-years-day-holid
 ay
END:VEVENT
END:VCALENDAR
