BEGIN:VCALENDAR
VERSION:2.0
PRODID:-//Plone.org//NONSGML plone.app.event//EN
X-WR-TIMEZONE:US/Central
BEGIN:VEVENT
SUMMARY:President's Day Holiday
DTSTART;VALUE=DATE:20240219
DTEND;VALUE=DATE:20240220
DTSTAMP:20260420T214353Z
UID:0d0b458739324ae49a45f50004d8e27e@saas_stack_varnish:6080
CREATED:20231227T181444Z
DESCRIPTION:Closed
LAST-MODIFIED:20231227T181452Z
URL:https://madisonville.ploud.net/news-events/lib-cal/presidents-day-holi
 day-4
END:VEVENT
END:VCALENDAR
