BEGIN:VCALENDAR
VERSION:2.0
PRODID:-//Plone.org//NONSGML plone.app.event//EN
X-WR-TIMEZONE:US/Central
BEGIN:VEVENT
SUMMARY:Sound the Alarm!
DTSTART;TZID=US/Central:20241010T100000
DTEND;TZID=US/Central:20241010T110000
DTSTAMP:20260420T214353Z
UID:4acadbabc68948db9cf7bbf4c5b3c692@saas_stack_varnish:6080
CREATED:20240808T145441Z
DESCRIPTION:Storytime Kick-off with special guests from the Madisonville F
 ire Department and Law Enforcement! Join us at 10:00 am for a special hand
 s-on experience with a fire truck and a patrol car for National Fire Preve
 ntion Week.
LAST-MODIFIED:20240808T145743Z
LOCATION:Madison County Library
URL:https://madisonville.ploud.net/news-events/lib-cal/sound-the-alarm-1
END:VEVENT
BEGIN:VTIMEZONE
TZID:US/Central
X-LIC-LOCATION:US/Central
BEGIN:DAYLIGHT
DTSTART:20240310T030000
TZNAME:CDT
TZOFFSETFROM:-0600
TZOFFSETTO:-0500
END:DAYLIGHT
END:VTIMEZONE
END:VCALENDAR
