BEGIN:VCALENDAR
VERSION:2.0
PRODID:-//Plone.org//NONSGML plone.app.event//EN
X-WR-TIMEZONE:US/Central
BEGIN:VEVENT
SUMMARY:Storytime
DTSTART;TZID=US/Central:20230202T100000
DTEND;TZID=US/Central:20230202T110000
DTSTAMP:20260420T214034Z
UID:cbfeedfa1b74407680081d17d4ac8c9d@saas_stack_varnish:6080
RRULE:FREQ=WEEKLY;COUNT=15;BYDAY=TH
EXDATE;TZID=US/Central:20230323T000000,20230323T000000,20230323T000000,202
 30406T000000,20230406T000000,20230504T000000,20230504T000000,20230511T0000
 00,20230511T000000
CREATED:20230110T171528Z
DESCRIPTION:30-45 minute program for babies through pre-school: stories\, 
 songs\, movement\, fingerplays\, crafts.
LAST-MODIFIED:20230110T171535Z
URL:https://madisonville.ploud.net/news-events/lib-cal/storytime-11
END:VEVENT
BEGIN:VTIMEZONE
TZID:US/Central
X-LIC-LOCATION:US/Central
BEGIN:STANDARD
DTSTART:20221106T010000
TZNAME:CST
TZOFFSETFROM:-0500
TZOFFSETTO:-0600
END:STANDARD
END:VTIMEZONE
END:VCALENDAR
