BEGIN:VCALENDAR
VERSION:2.0
PRODID:-//Plone.org//NONSGML plone.app.event//EN
X-WR-TIMEZONE:US/Central
BEGIN:VEVENT
SUMMARY:Storytime
DTSTART;TZID=US/Central:20230928T100000
DTEND;TZID=US/Central:20230928T104500
DTSTAMP:20260425T183742Z
UID:7af4f75ae43b48be851f534ed43aac91@saas_stack_varnish:6080
CREATED:20230927T174419Z
DESCRIPTION:Storytime for babies\, toddlers\, and preschool age children. 
 Join us for songs\, stories\, fingerplays\, and movement activities.
LAST-MODIFIED:20230927T174425Z
URL:https://madisonville.ploud.net/news-events/lib-cal/storytime-12
END:VEVENT
BEGIN:VTIMEZONE
TZID:US/Central
X-LIC-LOCATION:US/Central
BEGIN:DAYLIGHT
DTSTART:20230312T030000
TZNAME:CDT
TZOFFSETFROM:-0600
TZOFFSETTO:-0500
END:DAYLIGHT
END:VTIMEZONE
END:VCALENDAR
