BEGIN:VCALENDAR
VERSION:2.0
PRODID:-//Plone.org//NONSGML plone.app.event//EN
X-WR-TIMEZONE:US/Central
BEGIN:VEVENT
SUMMARY:Storytime
DTSTART;TZID=US/Central:20231128T100000
DTEND;TZID=US/Central:20231128T104500
DTSTAMP:20260420T214035Z
UID:681b54e519664778be9ed9f42c06e13f@saas_stack_varnish:6080
RRULE:FREQ=WEEKLY;COUNT=25;BYDAY=TH
EXDATE;TZID=US/Central:20231221T000000,20231228T000000,20240104T000000,202
 40321T000000,20240502T000000,20240509T000000,20240516T000000
CREATED:20231128T175307Z
DESCRIPTION:Storytime for Babies\, Toddlers\, and Pre-K age children is a 
 30-45 minute program that includes stories\, songs\, rhymes\, fingerplays\
 , movement\, some occasional crafts and parties!
LAST-MODIFIED:20231128T175321Z
URL:https://madisonville.ploud.net/news-events/lib-cal/storytime-13
END:VEVENT
BEGIN:VTIMEZONE
TZID:US/Central
X-LIC-LOCATION:US/Central
BEGIN:STANDARD
DTSTART:20231105T010000
TZNAME:CST
TZOFFSETFROM:-0500
TZOFFSETTO:-0600
END:STANDARD
END:VTIMEZONE
END:VCALENDAR
