BEGIN:VCALENDAR
VERSION:2.0
PRODID:-//Plone.org//NONSGML plone.app.event//EN
X-WR-TIMEZONE:US/Central
BEGIN:VEVENT
SUMMARY:Storytime Summer Reading Program
DTSTART;TZID=US/Central:20250529T100000
DTEND;TZID=US/Central:20250529T110000
DTSTAMP:20260425T183738Z
UID:6eccfde00b0e4b0699416a8c283cc0cd@saas_stack_varnish:6080
RRULE:FREQ=WEEKLY;COUNT=6
EXDATE;TZID=US/Central:20250619T000000
CREATED:20250305T222815Z
DESCRIPTION:Babies through PreK meet on Thursdays at 10:00 a.m.
LAST-MODIFIED:20250306T142622Z
URL:https://madisonville.ploud.net/news-events/lib-cal/storytime-summer-re
 ading-program-1
END:VEVENT
BEGIN:VTIMEZONE
TZID:US/Central
X-LIC-LOCATION:US/Central
BEGIN:DAYLIGHT
DTSTART:20250309T030000
TZNAME:CDT
TZOFFSETFROM:-0600
TZOFFSETTO:-0500
END:DAYLIGHT
END:VTIMEZONE
END:VCALENDAR
