BEGIN:VCALENDAR
VERSION:2.0
PRODID:-//Plone.org//NONSGML plone.app.event//EN
X-WR-TIMEZONE:US/Central
BEGIN:VEVENT
SUMMARY:Storytime Summer Reading Program
DTSTART;TZID=US/Central:20240620T100000
DTEND;TZID=US/Central:20240620T110000
DTSTAMP:20260420T213804Z
UID:626b7ec64f764fbaab64d1b9f486d1a5@saas_stack_varnish:6080
RRULE:FREQ=WEEKLY;COUNT=6;BYDAY=TH
RDATE;TZID=US/Central:20240703T000000
EXDATE;TZID=US/Central:20240704T000000
CREATED:20240405T141619Z
DESCRIPTION:Babies through Preschool Age Children will enjoy stories\, son
 gs\, rhymes\, fingerplays\, crafts\, and more!
LAST-MODIFIED:20240405T141625Z
URL:https://madisonville.ploud.net/news-events/lib-cal/storytime-summer-re
 ading-program
END:VEVENT
BEGIN:VTIMEZONE
TZID:US/Central
X-LIC-LOCATION:US/Central
BEGIN:DAYLIGHT
DTSTART:20240310T030000
TZNAME:CDT
TZOFFSETFROM:-0600
TZOFFSETTO:-0500
END:DAYLIGHT
END:VTIMEZONE
END:VCALENDAR
