BEGIN:VCALENDAR
VERSION:2.0
PRODID:-//Plone.org//NONSGML plone.app.event//EN
X-WR-TIMEZONE:US/Central
BEGIN:VEVENT
SUMMARY:Storytime
DTSTART;TZID=US/Central:20241010T100000
DTEND;TZID=US/Central:20241010T110000
DTSTAMP:20260420T213804Z
UID:3b832bb8cee848eeba160a484c0cd002@saas_stack_varnish:6080
RRULE:FREQ=WEEKLY;COUNT=30;BYDAY=TH
EXDATE;TZID=US/Central:20241128T000000,20241219T000000,20241226T000000,202
 50102T000000,20250327T000000,20250424T000000,20250501T000000
CREATED:20240808T150409Z
DESCRIPTION:Storytime for Babies through Pre-school age children is a 30-4
 5 minute program that includes stories\, songs\, rhymes\, fingerplays\, mo
 vement activities\, and a craft!
LAST-MODIFIED:20240808T150427Z
URL:https://madisonville.ploud.net/news-events/lib-cal/storytime
END:VEVENT
BEGIN:VTIMEZONE
TZID:US/Central
X-LIC-LOCATION:US/Central
BEGIN:DAYLIGHT
DTSTART:20240310T030000
TZNAME:CDT
TZOFFSETFROM:-0600
TZOFFSETTO:-0500
END:DAYLIGHT
END:VTIMEZONE
END:VCALENDAR
