BEGIN:VCALENDAR
VERSION:2.0
PRODID:-//Plone.org//NONSGML plone.app.event//EN
X-WR-TIMEZONE:US/Central
BEGIN:VEVENT
SUMMARY:Summer Reading for K--2nd graders
DTSTART;TZID=US/Central:20230613T110000
DTEND;TZID=US/Central:20230613T120000
DTSTAMP:20260420T214348Z
UID:e17eedf7c1f745f69581e07d25c0bc21@saas_stack_varnish:6080
RRULE:FREQ=WEEKLY;COUNT=6;BYDAY=TU
EXDATE;TZID=US/Central:20230627T000000,20230704T000000
CREATED:20230424T155049Z
DESCRIPTION:Will be Tuesdays at 11:00 a.m. \n**No program on Tuesday\, Jul
 y 4** The library will be closed for the holiday
LAST-MODIFIED:20230626T142049Z
URL:https://madisonville.ploud.net/news-events/lib-cal/summer-reading-for-
 k-2nd-graders
END:VEVENT
BEGIN:VTIMEZONE
TZID:US/Central
X-LIC-LOCATION:US/Central
BEGIN:DAYLIGHT
DTSTART:20230312T030000
TZNAME:CDT
TZOFFSETFROM:-0600
TZOFFSETTO:-0500
END:DAYLIGHT
END:VTIMEZONE
END:VCALENDAR
