BEGIN:VCALENDAR
VERSION:2.0
PRODID:-//Plone.org//NONSGML plone.app.event//EN
X-WR-TIMEZONE:US/Central
BEGIN:VEVENT
SUMMARY:Summer Reading Registration
DTSTART;VALUE=DATE:20230605
DTEND;VALUE=DATE:20230610
DTSTAMP:20260425T200720Z
UID:097cc080783d49959878b7637a9dc90f@saas_stack_varnish:6080
CREATED:20230424T153110Z
DESCRIPTION:Registration for the Summer Reading Program is June 5--9
LAST-MODIFIED:20230424T153118Z
URL:https://madisonville.ploud.net/news-events/lib-cal/summer-reading-regi
 stration-1
END:VEVENT
END:VCALENDAR
