BEGIN:VCALENDAR
VERSION:2.0
PRODID:-//Plone.org//NONSGML plone.app.event//EN
X-WR-TIMEZONE:US/Central
BEGIN:VEVENT
SUMMARY:Summer Reading Storytime
DTSTART;TZID=US/Central:20230615T100000
DTEND;TZID=US/Central:20230615T110000
DTSTAMP:20260425T184421Z
UID:b2b9fb4e9ede43b593df6b30ea9cd858@saas_stack_varnish:6080
RRULE:FREQ=WEEKLY;COUNT=7
EXDATE;TZID=US/Central:20230727T000000
CREATED:20230424T154656Z
DESCRIPTION:Storytime for Babies through Preschool Age Children will be on
  Thursdays at 10:00 a.m.
LAST-MODIFIED:20230424T154700Z
URL:https://madisonville.ploud.net/news-events/lib-cal/summer-reading-stor
 ytime
END:VEVENT
BEGIN:VTIMEZONE
TZID:US/Central
X-LIC-LOCATION:US/Central
BEGIN:DAYLIGHT
DTSTART:20230312T030000
TZNAME:CDT
TZOFFSETFROM:-0600
TZOFFSETTO:-0500
END:DAYLIGHT
END:VTIMEZONE
END:VCALENDAR
