BEGIN:VCALENDAR
VERSION:2.0
PRODID:-//Plone.org//NONSGML plone.app.event//EN
X-WR-TIMEZONE:US/Central
BEGIN:VEVENT
SUMMARY:Summer Special Event
DTSTART;TZID=US/Central:20250715T090000
DTSTAMP:20260425T184624Z
UID:725208050a83413493e7e87bd0daf31f@saas_stack_varnish:6080
RRULE:FREQ=WEEKLY;COUNT=4
CREATED:20250305T223045Z
DESCRIPTION:Join us weekly for a special event\, guest\, craft\, or activi
 ty.
LAST-MODIFIED:20250306T142856Z
URL:https://madisonville.ploud.net/news-events/lib-cal/summer-special-even
 t
END:VEVENT
BEGIN:VTIMEZONE
TZID:US/Central
X-LIC-LOCATION:US/Central
BEGIN:DAYLIGHT
DTSTART:20250309T030000
TZNAME:CDT
TZOFFSETFROM:-0600
TZOFFSETTO:-0500
END:DAYLIGHT
END:VTIMEZONE
END:VCALENDAR
