BEGIN:VCALENDAR
VERSION:2.0
PRODID:-//Plone.org//NONSGML plone.app.event//EN
X-WR-TIMEZONE:US/Central
BEGIN:VEVENT
SUMMARY:Thanksgiving
DTSTART;VALUE=DATE:20231123
DTEND;VALUE=DATE:20231125
DTSTAMP:20260425T183616Z
UID:4c332eff2c52464e86b3e0774969ca34@saas_stack_varnish:6080
CREATED:20230424T154209Z
DESCRIPTION:The library will be closed for the Thanksgiving Holiday
LAST-MODIFIED:20230424T154222Z
URL:https://madisonville.ploud.net/news-events/lib-cal/thanksgiving
END:VEVENT
END:VCALENDAR
