BEGIN:VCALENDAR
VERSION:2.0
PRODID:-//Plone.org//NONSGML plone.app.event//EN
X-WR-TIMEZONE:US/Central
BEGIN:VEVENT
SUMMARY:Veterans Day
DTSTART;VALUE=DATE:20241111
DTEND;VALUE=DATE:20241112
DTSTAMP:20260425T183835Z
UID:347e750170424ed18d8e09cdc41fcc3d@saas_stack_varnish:6080
CREATED:20231227T182649Z
DESCRIPTION:Closed
LAST-MODIFIED:20231227T182707Z
URL:https://madisonville.ploud.net/news-events/lib-cal/veterans-day-1
END:VEVENT
END:VCALENDAR
