BEGIN:VCALENDAR
VERSION:2.0
PRODID:-//Plone.org//NONSGML plone.app.event//EN
X-WR-TIMEZONE:US/Central
BEGIN:VEVENT
SUMMARY:Veterans Day
DTSTART;VALUE=DATE:20231110
DTEND;VALUE=DATE:20231111
DTSTAMP:20260425T183701Z
UID:37ab2ffc740740e5bb205194cd6a4ec2@saas_stack_varnish:6080
CREATED:20230424T154043Z
DESCRIPTION:Library is closed for the Veterans Day Holiday
LAST-MODIFIED:20230424T154049Z
URL:https://madisonville.ploud.net/news-events/lib-cal/veterans-day
END:VEVENT
END:VCALENDAR
