BEGIN:VCALENDAR
VERSION:2.0
PRODID:-//Plone.org//NONSGML plone.app.event//EN
X-WR-TIMEZONE:US/Central
BEGIN:VEVENT
SUMMARY:Presidents Day Holiday
DTSTART;VALUE=DATE:20250217
DTEND;VALUE=DATE:20250218
DTSTAMP:20260425T184109Z
UID:b6710553c07646028222d8f0690c1ee2@saas_stack_varnish:6080
CREATED:20250128T155504Z
DESCRIPTION:Closed
LAST-MODIFIED:20250128T155515Z
URL:https://madisonville.ploud.net/news-events/presidents-day-holiday
END:VEVENT
END:VCALENDAR
