BEGIN:VCALENDAR
VERSION:2.0
PRODID:-//Plone.org//NONSGML plone.app.event//EN
X-WR-TIMEZONE:US/Central
BEGIN:VEVENT
SUMMARY:Thanksgiving Holiday
DTSTART;VALUE=DATE:20251127
DTEND;VALUE=DATE:20251129
DTSTAMP:20260425T183620Z
UID:441cd10dc4644c94b84f2ef6feb72f41@saas_stack_varnish:6080
CREATED:20250128T160932Z
DESCRIPTION:Closed
LAST-MODIFIED:20250128T160943Z
URL:https://madisonville.ploud.net/news-events/thanksgiving-holiday
END:VEVENT
END:VCALENDAR
